BEGIN:VCALENDAR
VERSION:2.0
PRODID:-//Prince of Peace Orlando - ECPv6.15.20//NONSGML v1.0//EN
CALSCALE:GREGORIAN
METHOD:PUBLISH
X-WR-CALNAME:Prince of Peace Orlando
X-ORIGINAL-URL:https://poporlando.com
X-WR-CALDESC:Events for Prince of Peace Orlando
REFRESH-INTERVAL;VALUE=DURATION:PT1H
X-Robots-Tag:noindex
X-PUBLISHED-TTL:PT1H
BEGIN:VTIMEZONE
TZID:America/New_York
BEGIN:DAYLIGHT
TZOFFSETFROM:-0500
TZOFFSETTO:-0400
TZNAME:EDT
DTSTART:20240310T070000
END:DAYLIGHT
BEGIN:STANDARD
TZOFFSETFROM:-0400
TZOFFSETTO:-0500
TZNAME:EST
DTSTART:20241103T060000
END:STANDARD
BEGIN:DAYLIGHT
TZOFFSETFROM:-0500
TZOFFSETTO:-0400
TZNAME:EDT
DTSTART:20250309T070000
END:DAYLIGHT
BEGIN:STANDARD
TZOFFSETFROM:-0400
TZOFFSETTO:-0500
TZNAME:EST
DTSTART:20251102T060000
END:STANDARD
BEGIN:DAYLIGHT
TZOFFSETFROM:-0500
TZOFFSETTO:-0400
TZNAME:EDT
DTSTART:20260308T070000
END:DAYLIGHT
BEGIN:STANDARD
TZOFFSETFROM:-0400
TZOFFSETTO:-0500
TZNAME:EST
DTSTART:20261101T060000
END:STANDARD
END:VTIMEZONE
BEGIN:VEVENT
DTSTART;TZID=America/New_York:20251213T100000
DTEND;TZID=America/New_York:20251213T140000
DTSTAMP:20260420T003032
CREATED:20251211T193509Z
LAST-MODIFIED:20251211T200445Z
UID:240118-1765620000-1765634400@poporlando.com
SUMMARY:Christmas Festival - Navidades en Gateway
DESCRIPTION:🎄Gateway District and Prince of Peace Lutheran Church proudly present Navidades en Gateway — a joyful holiday celebration for the whole family! \nCome experience the magic of the season with: \n•  Live performances and holiday music \n•  Unique arts & crafts vendors \n•  Photos with Santa \n•  A delightful puppeteer show \n•  Delicious food and drinks available for purchase \n•  A festive kids’ zone with bounce houses \n•  Rummage treasures and much more! \nBring your loved ones and celebrate the holidays with us—there’s something for everyone!
URL:https://poporlando.com/event/christmas-festival-navidades-en-gateway/
LOCATION:Prince of Peace Orlando Campus\, 1515 S Semoran Blvd.\, Orlando\, 32807\, United States
CATEGORIES:Community Outreach
ATTACH;FMTTYPE=image/jpeg:https://poporlando.com/wp-content/uploads/2025/12/IMG_6838-1.jpeg
END:VEVENT
END:VCALENDAR