BEGIN:VCALENDAR
VERSION:2.0
PRODID:-//Prince of Peace Orlando - ECPv6.15.20//NONSGML v1.0//EN
CALSCALE:GREGORIAN
METHOD:PUBLISH
X-WR-CALNAME:Prince of Peace Orlando
X-ORIGINAL-URL:https://poporlando.com
X-WR-CALDESC:Events for Prince of Peace Orlando
REFRESH-INTERVAL;VALUE=DURATION:PT1H
X-Robots-Tag:noindex
X-PUBLISHED-TTL:PT1H
BEGIN:VTIMEZONE
TZID:America/New_York
BEGIN:DAYLIGHT
TZOFFSETFROM:-0500
TZOFFSETTO:-0400
TZNAME:EDT
DTSTART:20250309T070000
END:DAYLIGHT
BEGIN:STANDARD
TZOFFSETFROM:-0400
TZOFFSETTO:-0500
TZNAME:EST
DTSTART:20251102T060000
END:STANDARD
BEGIN:DAYLIGHT
TZOFFSETFROM:-0500
TZOFFSETTO:-0400
TZNAME:EDT
DTSTART:20260308T070000
END:DAYLIGHT
BEGIN:STANDARD
TZOFFSETFROM:-0400
TZOFFSETTO:-0500
TZNAME:EST
DTSTART:20261101T060000
END:STANDARD
BEGIN:DAYLIGHT
TZOFFSETFROM:-0500
TZOFFSETTO:-0400
TZNAME:EDT
DTSTART:20270314T070000
END:DAYLIGHT
BEGIN:STANDARD
TZOFFSETFROM:-0400
TZOFFSETTO:-0500
TZNAME:EST
DTSTART:20271107T060000
END:STANDARD
END:VTIMEZONE
BEGIN:VEVENT
DTSTART;TZID=America/New_York:20260405T063000
DTEND;TZID=America/New_York:20260405T073000
DTSTAMP:20260425T173340
CREATED:20260304T194443Z
LAST-MODIFIED:20260403T143246Z
UID:240344-1775370600-1775374200@poporlando.com
SUMMARY:Easter Sunrise Worship
DESCRIPTION:Christ is risen! He is risen\, indeed! Alleluia!  \nCelebrate the resurrection of Jesus Christ with us at our Easter Sunrise Service\, held in the serene setting of our Memorial Garden. This special service will commence with the breaking of dawn\, symbolizing the light of Christ rising from the darkness of the tomb. It is a time of joy and renewal as we share in the Holy Communion\, remembering the new covenant made possible through Christ’s victory over death. Bring your family and friends to experience the beauty of Easter morning\, filled with hope\, music\, and a message of resurrection. All are welcome to join us in this celebration of life and the promise of eternal love. \n\nHoly Week & Easter Worship Services\nPalm Sunday\nSunday\, March 29\, 2026\n9:00 a.m. – English Traditional Worship\n11:00 a.m. – English Contemporary Worship\n11:00 a.m. – Adoración del Domingo de Ramos \nMaundy Thursday\nThursday\, April 2\, 2026\n6:00 p.m. – English Traditional Worship\n7:30 p.m. – Culto español del Jueves Santos \nGood Friday\nFriday\, April 3\, 2026\n11:00 a.m. – English Traditional Worship\n6:00 p.m. – English Traditional Worship\n7:30 p.m. – Culto español del Viernes Santos \nEaster Sunday\nSunday\, April 5\, 2026\n6:30 a.m. – English Sunrise Service\n9:00 a.m. – English Traditional Worship\n11:00 a.m. – English Contemporary Worship\n11:00 a.m. – Adoración de Pascua
URL:https://poporlando.com/event/easter-sunrise-worship-3/
LOCATION:Memorial Garden (Courtyard)\, 1515 S. Semoran Blvd.\, Orlando\, 32807\, United States
CATEGORIES:Worship
ATTACH;FMTTYPE=image/jpeg:https://poporlando.com/wp-content/uploads/2026/03/easter_arches_easter-title-1-Wide-16x9-1-scaled.jpg
END:VEVENT
END:VCALENDAR