BEGIN:VCALENDAR
VERSION:2.0
PRODID:-//Prince of Peace Orlando - ECPv6.15.20//NONSGML v1.0//EN
CALSCALE:GREGORIAN
METHOD:PUBLISH
X-WR-CALNAME:Prince of Peace Orlando
X-ORIGINAL-URL:https://poporlando.com
X-WR-CALDESC:Events for Prince of Peace Orlando
REFRESH-INTERVAL;VALUE=DURATION:PT1H
X-Robots-Tag:noindex
X-PUBLISHED-TTL:PT1H
BEGIN:VTIMEZONE
TZID:America/New_York
BEGIN:DAYLIGHT
TZOFFSETFROM:-0500
TZOFFSETTO:-0400
TZNAME:EDT
DTSTART:20250309T070000
END:DAYLIGHT
BEGIN:STANDARD
TZOFFSETFROM:-0400
TZOFFSETTO:-0500
TZNAME:EST
DTSTART:20251102T060000
END:STANDARD
BEGIN:DAYLIGHT
TZOFFSETFROM:-0500
TZOFFSETTO:-0400
TZNAME:EDT
DTSTART:20260308T070000
END:DAYLIGHT
BEGIN:STANDARD
TZOFFSETFROM:-0400
TZOFFSETTO:-0500
TZNAME:EST
DTSTART:20261101T060000
END:STANDARD
BEGIN:DAYLIGHT
TZOFFSETFROM:-0500
TZOFFSETTO:-0400
TZNAME:EDT
DTSTART:20270314T070000
END:DAYLIGHT
BEGIN:STANDARD
TZOFFSETFROM:-0400
TZOFFSETTO:-0500
TZNAME:EST
DTSTART:20271107T060000
END:STANDARD
END:VTIMEZONE
BEGIN:VEVENT
DTSTART;TZID=America/New_York:20260524T103000
DTEND;TZID=America/New_York:20260524T103000
DTSTAMP:20260423T031127
CREATED:20260422T155917Z
LAST-MODIFIED:20260422T155917Z
UID:240547-1779618600-1779618600@poporlando.com
SUMMARY:Pentecost Combined Worship
DESCRIPTION:Join us on Sunday\, May 24\, at 10:30 a.m. in the Sanctuary for a special Pentecost Combined Worship Service at Prince of Peace Orlando. This unique service brings together all three of our worshiping communities for a celebration in English and Spanish. Experience uplifting music provided by the parish choir\, praise band\, and Coro; a special bilingual sermon; and partake of Holy Communion as we celebrate the Day of Pentecost. Please note\, there will be no 9 a.m. or 11 a.m. worship services this day. 
URL:https://poporlando.com/event/pentecost-combined-worship-3/
LOCATION:Sanctuary\, 1515 S. Semoran Blvd.\, Orlando\, FL\, 32807\, United States
CATEGORIES:Worship
ATTACH;FMTTYPE=image/png:https://poporlando.com/wp-content/uploads/2024/05/Title.png
END:VEVENT
END:VCALENDAR