BEGIN:VCALENDAR
VERSION:2.0
PRODID:-//Prince of Peace Orlando - ECPv6.15.20//NONSGML v1.0//EN
CALSCALE:GREGORIAN
METHOD:PUBLISH
X-WR-CALNAME:Prince of Peace Orlando
X-ORIGINAL-URL:https://poporlando.com
X-WR-CALDESC:Events for Prince of Peace Orlando
REFRESH-INTERVAL;VALUE=DURATION:PT1H
X-Robots-Tag:noindex
X-PUBLISHED-TTL:PT1H
BEGIN:VTIMEZONE
TZID:America/New_York
BEGIN:DAYLIGHT
TZOFFSETFROM:-0500
TZOFFSETTO:-0400
TZNAME:EDT
DTSTART:20220313T070000
END:DAYLIGHT
BEGIN:STANDARD
TZOFFSETFROM:-0400
TZOFFSETTO:-0500
TZNAME:EST
DTSTART:20221106T060000
END:STANDARD
BEGIN:DAYLIGHT
TZOFFSETFROM:-0500
TZOFFSETTO:-0400
TZNAME:EDT
DTSTART:20230312T070000
END:DAYLIGHT
BEGIN:STANDARD
TZOFFSETFROM:-0400
TZOFFSETTO:-0500
TZNAME:EST
DTSTART:20231105T060000
END:STANDARD
BEGIN:DAYLIGHT
TZOFFSETFROM:-0500
TZOFFSETTO:-0400
TZNAME:EDT
DTSTART:20240310T070000
END:DAYLIGHT
BEGIN:STANDARD
TZOFFSETFROM:-0400
TZOFFSETTO:-0500
TZNAME:EST
DTSTART:20241103T060000
END:STANDARD
END:VTIMEZONE
BEGIN:VEVENT
DTSTART;TZID=America/New_York:20231119T150000
DTEND;TZID=America/New_York:20231119T170000
DTSTAMP:20260420T220530
CREATED:20231020T034749Z
LAST-MODIFIED:20231020T035645Z
UID:10000236-1700406000-1700413200@poporlando.com
SUMMARY:Keys & Strings from Europe to America
DESCRIPTION:Join us for a mesmerizing afternoon of music as we dive into a harmonious journey from Europe to America. This special recital showcases the exceptional talent of our former organist\, Ammon Perry on the piano\, and the brilliant Ayako Yonetani on the violin. \nEvent Details:\n📅 Date: Sunday\, November 19\, 2023\n🕒 Time: 3:00 p.m.\n💰 Cost: Free (a free-will offering will be appreciated) \nDive into a world of melodies as two accomplished musicians come together to play pieces by renowned European and American composers. The repertoire includes works by Leclair\, Bach\, Liszt\, Brahms\, Gershwin\, and Zabach. \nThis recital is not just an event\, but an experience. So mark your calendars\, spread the word\, and prepare to be enthralled by some of the most beautiful tunes played by wonderful artists. \n🎻 Save the Date! We look forward to sharing this musical journey with you. 🎹
URL:https://poporlando.com/event/keys-strings-from-europe-to-america/
LOCATION:Sanctuary\, 1515 S. Semoran Blvd.\, Orlando\, FL\, 32807\, United States
CATEGORIES:Concert Series
ATTACH;FMTTYPE=image/png:https://poporlando.com/wp-content/uploads/2023/10/Piano_Violin.png
ORGANIZER;CN="Prince of Peace Concert Series":MAILTO:concertseries@poporlando.com
END:VEVENT
END:VCALENDAR