BEGIN:VCALENDAR
VERSION:2.0
PRODID:-//Prince of Peace Orlando - ECPv6.15.20//NONSGML v1.0//EN
CALSCALE:GREGORIAN
METHOD:PUBLISH
X-WR-CALNAME:Prince of Peace Orlando
X-ORIGINAL-URL:https://poporlando.com
X-WR-CALDESC:Events for Prince of Peace Orlando
REFRESH-INTERVAL;VALUE=DURATION:PT1H
X-Robots-Tag:noindex
X-PUBLISHED-TTL:PT1H
BEGIN:VTIMEZONE
TZID:America/New_York
BEGIN:DAYLIGHT
TZOFFSETFROM:-0500
TZOFFSETTO:-0400
TZNAME:EDT
DTSTART:20230312T070000
END:DAYLIGHT
BEGIN:STANDARD
TZOFFSETFROM:-0400
TZOFFSETTO:-0500
TZNAME:EST
DTSTART:20231105T060000
END:STANDARD
BEGIN:DAYLIGHT
TZOFFSETFROM:-0500
TZOFFSETTO:-0400
TZNAME:EDT
DTSTART:20240310T070000
END:DAYLIGHT
BEGIN:STANDARD
TZOFFSETFROM:-0400
TZOFFSETTO:-0500
TZNAME:EST
DTSTART:20241103T060000
END:STANDARD
BEGIN:DAYLIGHT
TZOFFSETFROM:-0500
TZOFFSETTO:-0400
TZNAME:EDT
DTSTART:20250309T070000
END:DAYLIGHT
BEGIN:STANDARD
TZOFFSETFROM:-0400
TZOFFSETTO:-0500
TZNAME:EST
DTSTART:20251102T060000
END:STANDARD
END:VTIMEZONE
BEGIN:VEVENT
DTSTART;TZID=America/New_York:20240908T170000
DTEND;TZID=America/New_York:20240908T180000
DTSTAMP:20260419T133226
CREATED:20240802T054751Z
LAST-MODIFIED:20240812T155426Z
UID:10000305-1725814800-1725818400@poporlando.com
SUMMARY:NYG 2025 Info Meeting
DESCRIPTION:The National Youth Gathering in New Orleans in Summer 2025 promises to be an incredible adventure for all eligible students\, from current 8th graders to high school seniors. This is a chance to be part of something truly special\, and you won’t want to miss it! \nHeld every 3 years since 1980\, the LCMS Youth Gathering provides thousands of youth and adults the opportunity to come together as a community of God’s people to learn more about Jesus Christ\, the Christian faith\, and their Lutheran identity. During the 5 days of the Gathering\, youth spend time together in God’s Word\, worship\, service\, and fellowship with others from across the synod. \nTo help you decide if this amazing event is for you\, we’re hosting an informational meeting from on Sunday\, September 8\, from 5:00 to 6:00 p.m. for eligible students and their parents. We’ll dive into all the details\, including: \n\nWhat is the National Youth Gathering?\nWhy should you be excited to go?\nWhat other fun activities will we do in New Orleans?\nHow will we get there?\nWhat is the cost involved?\n\nJoin us to have these questions and more answered as we gear up for this incredible journey. Remember\, attending the meeting is just to gather information—there’s no commitment required. Get ready for the experience of a lifetime at the NYG 2025! \n \n 
URL:https://poporlando.com/event/nyg-2025-info-meeting/
LOCATION:Family Life Center\, 1515 S Semoran Blvd.\, Orlando\, FL\, 32807\, United States
CATEGORIES:Youth & Family Ministry
ATTACH;FMTTYPE=image/jpeg:https://poporlando.com/wp-content/uploads/2024/08/ComputerBG_3.jpg
ORGANIZER;CN="Youth & Family Ministry":MAILTO:eric.gerken@poporlando.com
END:VEVENT
END:VCALENDAR