BEGIN:VCALENDAR
VERSION:2.0
PRODID:-//Prince of Peace Orlando - ECPv6.15.20//NONSGML v1.0//EN
CALSCALE:GREGORIAN
METHOD:PUBLISH
X-WR-CALNAME:Prince of Peace Orlando
X-ORIGINAL-URL:https://poporlando.com
X-WR-CALDESC:Events for Prince of Peace Orlando
REFRESH-INTERVAL;VALUE=DURATION:PT1H
X-Robots-Tag:noindex
X-PUBLISHED-TTL:PT1H
BEGIN:VTIMEZONE
TZID:America/New_York
BEGIN:DAYLIGHT
TZOFFSETFROM:-0500
TZOFFSETTO:-0400
TZNAME:EDT
DTSTART:20230312T070000
END:DAYLIGHT
BEGIN:STANDARD
TZOFFSETFROM:-0400
TZOFFSETTO:-0500
TZNAME:EST
DTSTART:20231105T060000
END:STANDARD
BEGIN:DAYLIGHT
TZOFFSETFROM:-0500
TZOFFSETTO:-0400
TZNAME:EDT
DTSTART:20240310T070000
END:DAYLIGHT
BEGIN:STANDARD
TZOFFSETFROM:-0400
TZOFFSETTO:-0500
TZNAME:EST
DTSTART:20241103T060000
END:STANDARD
BEGIN:DAYLIGHT
TZOFFSETFROM:-0500
TZOFFSETTO:-0400
TZNAME:EDT
DTSTART:20250309T070000
END:DAYLIGHT
BEGIN:STANDARD
TZOFFSETFROM:-0400
TZOFFSETTO:-0500
TZNAME:EST
DTSTART:20251102T060000
END:STANDARD
END:VTIMEZONE
BEGIN:VEVENT
DTSTART;TZID=America/New_York:20241019T173000
DTEND;TZID=America/New_York:20241019T203000
DTSTAMP:20260421T160911
CREATED:20240909T171133Z
LAST-MODIFIED:20241008T033743Z
UID:10000370-1729359000-1729369800@poporlando.com
SUMMARY:Ministry Anniversaries Celebration
DESCRIPTION:October is Clergy Appreciation Month\, and at Prince of Peace\, we have the special opportunity to celebrate three remarkable anniversaries. Through the dedication and leadership of our Servant Leaders\, the Lord has provided 55 years of effective and faithful ministry. We have been truly blessed by their wisdom\, guidance\, and love! \n\nRev. Ken Green is celebrating 30 years of ministry as an ordained minister in the LCMS\nRev. Adolfo Borges is celebrating 20 years of ministry at Prince of Peace/Príncipe de Paz\nDCE Eric Gerken is celebrating 5 years of ministry at Prince of Peace/Príncipe de Paz\n\nJoin us for a catered banquet on Saturday\, October 19\, featuring guest speakers\, music\, videos\, and a presentation of gifts to honor our pastors and DCE. The evening will begin with a reception at 5:30 PM\, followed by dinner at 6:00 PM. Please RSVP for the banquet by Sunday\, October 13—click here to RSVP online. \nThe celebration will continue during our regularly scheduled Sunday worship services on October 20\, where we will welcome special guest preachers: \n\nThe Rev. Scott Gress will be the preacher for the 9:00 and 11:00 a.m. English worship services.\nThe Rev. Dr. Leopoldo A. Sanchez will preach at the 11:00 a.m. Spanish worship service.\n\nThis weekend-long celebration is a chance for us to express our gratitude and give heartfelt encouragement to our pastors and DCE Eric Gerken\, along with their families. It will be a time of joy and thanksgiving for their continued ministry among us at Prince of Peace/Príncipe de Paz. \n\nHow You Can Help\nWe invite every member of our congregation to make a special monetary gift to ensure we have adequate funding for the banquet and meaningful gifts for Pastor Green\, Pastor Borges\, and DCE Gerken. You can contribute in the following ways: \n\nMail your gift of support to the church office.\nMake a designated donation online (be sure to select “Staff Celebration Gifts” in the dropdown menu).\nInclude a designated gift in the offering plate at upcoming services.\n\nWe ask that you prayerfully consider supporting this wonderful event\, and we thank God for your faithfulness and prayers for the continuing mission of Prince of Peace/Príncipe de Paz to be the heart\, hands\, and feet of Jesus—in the heart of Orlando. \n			\n				RSVP for the Banquet
URL:https://poporlando.com/event/ministry-anniversaries-celebration/
LOCATION:Family Life Center\, 1515 S Semoran Blvd.\, Orlando\, FL\, 32807\, United States
ATTACH;FMTTYPE=image/png:https://poporlando.com/wp-content/uploads/2024/09/Ministry.png
END:VEVENT
END:VCALENDAR