BEGIN:VCALENDAR
VERSION:2.0
PRODID:-//Prince of Peace Orlando - ECPv6.15.20//NONSGML v1.0//EN
CALSCALE:GREGORIAN
METHOD:PUBLISH
X-WR-CALNAME:Prince of Peace Orlando
X-ORIGINAL-URL:https://poporlando.com
X-WR-CALDESC:Events for Prince of Peace Orlando
REFRESH-INTERVAL;VALUE=DURATION:PT1H
X-Robots-Tag:noindex
X-PUBLISHED-TTL:PT1H
BEGIN:VTIMEZONE
TZID:America/New_York
BEGIN:DAYLIGHT
TZOFFSETFROM:-0500
TZOFFSETTO:-0400
TZNAME:EDT
DTSTART:20250309T070000
END:DAYLIGHT
BEGIN:STANDARD
TZOFFSETFROM:-0400
TZOFFSETTO:-0500
TZNAME:EST
DTSTART:20251102T060000
END:STANDARD
BEGIN:DAYLIGHT
TZOFFSETFROM:-0500
TZOFFSETTO:-0400
TZNAME:EDT
DTSTART:20260308T070000
END:DAYLIGHT
BEGIN:STANDARD
TZOFFSETFROM:-0400
TZOFFSETTO:-0500
TZNAME:EST
DTSTART:20261101T060000
END:STANDARD
BEGIN:DAYLIGHT
TZOFFSETFROM:-0500
TZOFFSETTO:-0400
TZNAME:EDT
DTSTART:20270314T070000
END:DAYLIGHT
BEGIN:STANDARD
TZOFFSETFROM:-0400
TZOFFSETTO:-0500
TZNAME:EST
DTSTART:20271107T060000
END:STANDARD
END:VTIMEZONE
BEGIN:VEVENT
DTSTART;TZID=America/New_York:20260402T180000
DTEND;TZID=America/New_York:20260402T190000
DTSTAMP:20260424T055001
CREATED:20260304T193058Z
LAST-MODIFIED:20260402T213621Z
UID:10000513-1775152800-1775156400@poporlando.com
SUMMARY:Maundy Thursday English Worship
DESCRIPTION:Maundy Thursday worship commemorates the Last Supper of Jesus Christ with His disciples and His commandment to love one another as He has loved us. The evening promises a time of profound reflection and worship\, including a solemn observance of Holy Communion\, inviting participants to draw nearer to the heart of God’s unfailing love and grace. As we remember the night before Jesus’ crucifixion\, this service offers a space for contemplation\, prayer\, and preparation for the events of Good Friday and the joy of Easter Sunday. All are welcome to join us in this sacred time of remembrance and devotion. \n\nHoly Week & Easter Worship Services\nPalm Sunday\nSunday\, March 29\, 2026\n9:00 a.m. – English Traditional Worship\n11:00 a.m. – English Contemporary Worship\n11:00 a.m. – Adoración del Domingo de Ramos \nMaundy Thursday\nThursday\, April 2\, 2026\n6:00 p.m. – English Traditional Worship\n6:30 p.m. – Spanish Seder Meal in the Family Life Center \nGood Friday\nFriday\, April 3\, 2026\n11:00 a.m. – English Traditional Worship\n6:00 p.m. – English Traditional Worship\n7:30 p.m. – Culto español del Viernes Santos \nEaster Sunday\nSunday\, April 5\, 2026\n6:30 a.m. – English Sunrise Service\n9:00 a.m. – English Traditional Worship\n11:00 a.m. – English Contemporary Worship\n11:00 a.m. – Adoración de Pascua
URL:https://poporlando.com/event/maundy-thursday-english-worship-3/
LOCATION:Sanctuary\, 1515 S. Semoran Blvd.\, Orlando\, FL\, 32807\, United States
CATEGORIES:Worship
ATTACH;FMTTYPE=image/jpeg:https://poporlando.com/wp-content/uploads/2026/03/easter_arches_maundy_thursday-title-1-Wide-16x9-1-scaled.jpg
END:VEVENT
BEGIN:VEVENT
DTSTART;TZID=America/New_York:20260402T193000
DTEND;TZID=America/New_York:20260402T210000
DTSTAMP:20260424T055001
CREATED:20260304T193343Z
LAST-MODIFIED:20260331T144056Z
UID:10000514-1775158200-1775163600@poporlando.com
SUMMARY:Culto español del Jueves Santo
DESCRIPTION:La adoración del Jueves Santo conmemora la última cena de Jesucristo con sus discípulos y su mandamiento de amarse unos a otros como nos ha amado. La noche promete un momento de profunda reflexión y adoración\, incluida una observancia solemne de la Sagrada Comunión\, invitando a los participantes a acercarse al corazón del amor y la gracia inagotos de Dios. Como recordamos la noche anterior a la crucifixión de Jesús\, este servicio ofrece un espacio para la contemplación\, la oración y la preparación para los eventos del Viernes Santo y la alegría del domingo de Pascua. Todos son bienvenidos a unirse a nosotros en este tiempo sagrado de recuerdo y devoción. \n\nServicios de Adoración de Semana Santa y Pascua\nDomingo de Ramos\nDomingo\, 29 de marzo de 2026\n9:00 a.m. – Culto Tradicional en Inglés \n11:00 a.m. – Culto Contemporáneo en Inglés \n11:00 a.m. – Culto español del Domingo de Ramos \nJueves Santo\nJueves\, 2 de abril de 2026\n6:00 p.m. – Culto Tradicional en Inglés \n7:30 p.m. – Culto español del Jueves Santo \nViernes Santo\nViernes\, 3 de abril de 2026\n11:00 a.m. – Culto Tradicional en Inglés \n6:00 p.m. – Culto Tradicional en Inglés \n7:30 p.m. – Culto español del Viernes Santo \nDomingo de Pascua\nDomingo\, 5 de abril de 2026\n6:30 a.m. – Servicio de Amanecer en Inglés \n9:00 a.m. – Culto Tradicional en Inglés \n11:00 a.m. – Culto Contemporáneo en Inglés \n11:00 a.m. – Adoración de Pascua en español
URL:https://poporlando.com/event/culto-espanol-del-jueves-santo-2/
LOCATION:Sanctuary\, 1515 S. Semoran Blvd.\, Orlando\, FL\, 32807\, United States
CATEGORIES:Worship
ATTACH;FMTTYPE=image/jpeg:https://poporlando.com/wp-content/uploads/2026/03/Jueves.jpg
END:VEVENT
END:VCALENDAR