BEGIN:VCALENDAR
VERSION:2.0
PRODID:-//Prince of Peace Orlando - ECPv6.15.20//NONSGML v1.0//EN
CALSCALE:GREGORIAN
METHOD:PUBLISH
X-ORIGINAL-URL:https://poporlando.com
X-WR-CALDESC:Events for Prince of Peace Orlando
REFRESH-INTERVAL;VALUE=DURATION:PT1H
X-Robots-Tag:noindex
X-PUBLISHED-TTL:PT1H
BEGIN:VTIMEZONE
TZID:America/New_York
BEGIN:DAYLIGHT
TZOFFSETFROM:-0500
TZOFFSETTO:-0400
TZNAME:EDT
DTSTART:20250309T070000
END:DAYLIGHT
BEGIN:STANDARD
TZOFFSETFROM:-0400
TZOFFSETTO:-0500
TZNAME:EST
DTSTART:20251102T060000
END:STANDARD
BEGIN:DAYLIGHT
TZOFFSETFROM:-0500
TZOFFSETTO:-0400
TZNAME:EDT
DTSTART:20260308T070000
END:DAYLIGHT
BEGIN:STANDARD
TZOFFSETFROM:-0400
TZOFFSETTO:-0500
TZNAME:EST
DTSTART:20261101T060000
END:STANDARD
BEGIN:DAYLIGHT
TZOFFSETFROM:-0500
TZOFFSETTO:-0400
TZNAME:EDT
DTSTART:20270314T070000
END:DAYLIGHT
BEGIN:STANDARD
TZOFFSETFROM:-0400
TZOFFSETTO:-0500
TZNAME:EST
DTSTART:20271107T060000
END:STANDARD
END:VTIMEZONE
BEGIN:VEVENT
DTSTART;TZID=America/New_York:20260403T110000
DTEND;TZID=America/New_York:20260403T120000
DTSTAMP:20260422T151544
CREATED:20260304T193540Z
LAST-MODIFIED:20260403T142858Z
UID:10000517-1775214000-1775217600@poporlando.com
SUMMARY:Good Friday English Worship
DESCRIPTION:Good Friday worship services invite us to reflect on the passion and sacrifice of Jesus Christ. On this most solemn day\, we commemorate His crucifixion\, death\, and the profound love He demonstrated for all humanity. Through scripture readings\, hymns\, and prayer\, we will journey together through the events of that pivotal day\, honoring the depth of Christ’s suffering and the sacrifice that offers us redemption and hope. This service is a time to meditate on the significance of the cross and to prepare our hearts for the joy of Easter Sunday. All are welcome to join us in this time of reverence and reflection as we remember Christ’s ultimate sacrifice made for us. \n\nHoly Week & Easter Worship Services\nPalm Sunday\nSunday\, March 29\, 2026\n9:00 a.m. – English Traditional Worship\n11:00 a.m. – English Contemporary Worship\n11:00 a.m. – Adoración del Domingo de Ramos \nMaundy Thursday\nThursday\, April 2\, 2026\n6:00 p.m. – English Traditional Worship\n7:30 p.m. – Culto español del Jueves Santos \nGood Friday\nFriday\, April 3\, 2026\n11:00 a.m. – English Traditional Worship\n6:00 p.m. – English Traditional Worship\n7:30 p.m. – Culto español del Viernes Santos \nEaster Sunday\nSunday\, April 5\, 2026\n6:30 a.m. – English Sunrise Service\n9:00 a.m. – English Traditional Worship\n11:00 a.m. – English Contemporary Worship\n11:00 a.m. – Adoración de Pascua
URL:https://poporlando.com/event/good-friday-english-worship-3/
LOCATION:Sanctuary\, 1515 S. Semoran Blvd.\, Orlando\, FL\, 32807\, United States
CATEGORIES:Worship
ATTACH;FMTTYPE=image/jpeg:https://poporlando.com/wp-content/uploads/2026/03/easter_arches_good_friday-title-1-Wide-16x9-1-scaled.jpg
END:VEVENT
BEGIN:VEVENT
DTSTART;TZID=America/New_York:20260403T180000
DTEND;TZID=America/New_York:20260403T190000
DTSTAMP:20260422T151544
CREATED:20260304T193938Z
LAST-MODIFIED:20260403T143056Z
UID:10000520-1775239200-1775242800@poporlando.com
SUMMARY:Good Friday English Worship
DESCRIPTION:Good Friday worship services invite us to reflect on the passion and sacrifice of Jesus Christ. On this most solemn day\, we commemorate His crucifixion\, death\, and the profound love He demonstrated for all humanity. Through scripture readings\, hymns\, and prayer\, we will journey together through the events of that pivotal day\, honoring the depth of Christ’s suffering and the sacrifice that offers us redemption and hope. This service is a time to meditate on the significance of the cross and to prepare our hearts for the joy of Easter Sunday. All are welcome to join us in this time of reverence and reflection as we remember Christ’s ultimate sacrifice made for us. \n\nHoly Week & Easter Worship Services\nPalm Sunday\nSunday\, March 29\, 2026\n9:00 a.m. – English Traditional Worship\n11:00 a.m. – English Contemporary Worship\n11:00 a.m. – Adoración del Domingo de Ramos \nMaundy Thursday\nThursday\, April 2\, 2026\n6:00 p.m. – English Traditional Worship\n7:30 p.m. – Culto español del Jueves Santos \nGood Friday\nFriday\, April 3\, 2026\n11:00 a.m. – English Traditional Worship\n6:00 p.m. – English Traditional Worship\n7:30 p.m. – Culto español del Viernes Santos \nEaster Sunday\nSunday\, April 5\, 2026\n6:30 a.m. – English Sunrise Service\n9:00 a.m. – English Traditional Worship\n11:00 a.m. – English Contemporary Worship\n11:00 a.m. – Adoración de Pascua
URL:https://poporlando.com/event/good-friday-english-worship-4-2/
LOCATION:Sanctuary\, 1515 S. Semoran Blvd.\, Orlando\, FL\, 32807\, United States
CATEGORIES:Worship
ATTACH;FMTTYPE=image/jpeg:https://poporlando.com/wp-content/uploads/2026/03/easter_arches_good_friday-title-1-Wide-16x9-1-scaled.jpg
END:VEVENT
BEGIN:VEVENT
DTSTART;TZID=America/New_York:20260403T193000
DTEND;TZID=America/New_York:20260403T210000
DTSTAMP:20260422T151544
CREATED:20260304T194242Z
LAST-MODIFIED:20260403T143157Z
UID:10000521-1775244600-1775250000@poporlando.com
SUMMARY:Culto español del Viernes Santo
DESCRIPTION:Los servicios de adoración del Viernes Santo nos invitan a reflexionar sobre la pasión y el sacrificio de Jesucristo. En este día tan solemne\, conmemoramos Su crucifixión\, muerte y el profundo amor que demostró por toda la humanidad. A través de lecturas de las Escrituras\, himnos y oraciones\, viajaremos juntos a través de los acontecimientos de ese día crucial\, honrando la profundidad del sufrimiento de Cristo y el sacrificio que nos ofrece redención y esperanza. Este servicio es un momento para meditar sobre el significado de la cruz y preparar nuestros corazones para la alegría del Domingo de Pascua. Todos son bienvenidos a unirse a nosotros en este tiempo de reverencia y reflexión mientras recordamos el sacrificio supremo que Cristo hizo por nosotros. \n\nServicios de Adoración de Semana Santa y Pascua\nDomingo de Ramos\nDomingo\, 29 de marzo de 2026\n9:00 a.m. – Culto Tradicional en Inglés \n11:00 a.m. – Culto Contemporáneo en Inglés \n11:00 a.m. – Culto español del Domingo de Ramos \nJueves Santo\nJueves\, 2 de abril de 2026\n6:00 p.m. – Culto Tradicional en Inglés \n7:30 p.m. – Culto español del Jueves Santo \nViernes Santo\nViernes\, 3 de abril de 2026\n11:00 a.m. – Culto Tradicional en Inglés \n6:00 p.m. – Culto Tradicional en Inglés \n7:30 p.m. – Culto español del Viernes Santo \nDomingo de Pascua\nDomingo\, 5 de abril de 2026\n6:30 a.m. – Servicio de Amanecer en Inglés \n9:00 a.m. – Culto Tradicional en Inglés \n11:00 a.m. – Culto Contemporáneo en Inglés \n11:00 a.m. – Adoración de Pascua en español
URL:https://poporlando.com/event/culto-espanol-del-viernes-santo-3/
LOCATION:Sanctuary\, 1515 S. Semoran Blvd.\, Orlando\, FL\, 32807\, United States
CATEGORIES:Worship
ATTACH;FMTTYPE=image/jpeg:https://poporlando.com/wp-content/uploads/2026/03/Good-1.jpg
END:VEVENT
END:VCALENDAR