BEGIN:VCALENDAR
VERSION:2.0
PRODID:-//Prince of Peace Orlando - ECPv6.15.20//NONSGML v1.0//EN
CALSCALE:GREGORIAN
METHOD:PUBLISH
X-WR-CALNAME:Prince of Peace Orlando
X-ORIGINAL-URL:https://poporlando.com
X-WR-CALDESC:Events for Prince of Peace Orlando
REFRESH-INTERVAL;VALUE=DURATION:PT1H
X-Robots-Tag:noindex
X-PUBLISHED-TTL:PT1H
BEGIN:VTIMEZONE
TZID:America/New_York
BEGIN:DAYLIGHT
TZOFFSETFROM:-0500
TZOFFSETTO:-0400
TZNAME:EDT
DTSTART:20210314T070000
END:DAYLIGHT
BEGIN:STANDARD
TZOFFSETFROM:-0400
TZOFFSETTO:-0500
TZNAME:EST
DTSTART:20211107T060000
END:STANDARD
BEGIN:DAYLIGHT
TZOFFSETFROM:-0500
TZOFFSETTO:-0400
TZNAME:EDT
DTSTART:20220313T070000
END:DAYLIGHT
BEGIN:STANDARD
TZOFFSETFROM:-0400
TZOFFSETTO:-0500
TZNAME:EST
DTSTART:20221106T060000
END:STANDARD
BEGIN:DAYLIGHT
TZOFFSETFROM:-0500
TZOFFSETTO:-0400
TZNAME:EDT
DTSTART:20230312T070000
END:DAYLIGHT
BEGIN:STANDARD
TZOFFSETFROM:-0400
TZOFFSETTO:-0500
TZNAME:EST
DTSTART:20231105T060000
END:STANDARD
END:VTIMEZONE
BEGIN:VEVENT
DTSTART;TZID=America/New_York:20220415T110000
DTEND;TZID=America/New_York:20220415T120000
DTSTAMP:20260424T111149
CREATED:20220108T034548Z
LAST-MODIFIED:20220108T034736Z
UID:10000109-1650020400-1650024000@poporlando.com
SUMMARY:Good Friday Worship
DESCRIPTION:Good Friday marks the crucifixion and death of our Lord Jesus Christ. It is called “Good” because of what Jesus’ death means for the redemption of the world. This is a solemn day focused on our sinfulness and need for a Savior. But even in this solemnity\, worshipers experience profound wonder and gratitude as we experience the loving purposes of God who offered His greatest gift—His only Son—to redeem His children. \nEnglish Worship is held at 11:00 am and 6:00 pm in the Sanctuary.
URL:https://poporlando.com/event/goodfriday/2022-04-15/1/
LOCATION:Sanctuary\, 1515 S. Semoran Blvd.\, Orlando\, FL\, 32807\, United States
CATEGORIES:Worship
ATTACH;FMTTYPE=image/jpeg:https://poporlando.com/wp-content/uploads/2022/01/good_friday-title-3-Wide-16x9-1.jpg
END:VEVENT
BEGIN:VEVENT
DTSTART;TZID=America/New_York:20220415T180000
DTEND;TZID=America/New_York:20220415T190000
DTSTAMP:20260424T111149
CREATED:20220108T034548Z
LAST-MODIFIED:20220108T034736Z
UID:10000110-1650045600-1650049200@poporlando.com
SUMMARY:Good Friday Worship
DESCRIPTION:Good Friday marks the crucifixion and death of our Lord Jesus Christ. It is called “Good” because of what Jesus’ death means for the redemption of the world. This is a solemn day focused on our sinfulness and need for a Savior. But even in this solemnity\, worshipers experience profound wonder and gratitude as we experience the loving purposes of God who offered His greatest gift—His only Son—to redeem His children. \nEnglish Worship is held at 11:00 am and 6:00 pm in the Sanctuary.
URL:https://poporlando.com/event/goodfriday/2022-04-15/2/
LOCATION:Sanctuary\, 1515 S. Semoran Blvd.\, Orlando\, FL\, 32807\, United States
CATEGORIES:Worship
ATTACH;FMTTYPE=image/jpeg:https://poporlando.com/wp-content/uploads/2022/01/good_friday-title-3-Wide-16x9-1.jpg
END:VEVENT
END:VCALENDAR