BEGIN:VCALENDAR
VERSION:2.0
PRODID:-//Prince of Peace Orlando - ECPv6.15.20//NONSGML v1.0//EN
CALSCALE:GREGORIAN
METHOD:PUBLISH
X-WR-CALNAME:Prince of Peace Orlando
X-ORIGINAL-URL:https://poporlando.com
X-WR-CALDESC:Events for Prince of Peace Orlando
REFRESH-INTERVAL;VALUE=DURATION:PT1H
X-Robots-Tag:noindex
X-PUBLISHED-TTL:PT1H
BEGIN:VTIMEZONE
TZID:America/New_York
BEGIN:DAYLIGHT
TZOFFSETFROM:-0500
TZOFFSETTO:-0400
TZNAME:EDT
DTSTART:20250309T070000
END:DAYLIGHT
BEGIN:STANDARD
TZOFFSETFROM:-0400
TZOFFSETTO:-0500
TZNAME:EST
DTSTART:20251102T060000
END:STANDARD
BEGIN:DAYLIGHT
TZOFFSETFROM:-0500
TZOFFSETTO:-0400
TZNAME:EDT
DTSTART:20260308T070000
END:DAYLIGHT
BEGIN:STANDARD
TZOFFSETFROM:-0400
TZOFFSETTO:-0500
TZNAME:EST
DTSTART:20261101T060000
END:STANDARD
BEGIN:DAYLIGHT
TZOFFSETFROM:-0500
TZOFFSETTO:-0400
TZNAME:EDT
DTSTART:20270314T070000
END:DAYLIGHT
BEGIN:STANDARD
TZOFFSETFROM:-0400
TZOFFSETTO:-0500
TZNAME:EST
DTSTART:20271107T060000
END:STANDARD
END:VTIMEZONE
BEGIN:VEVENT
DTSTART;TZID=America/New_York:20260510T123000
DTEND;TZID=America/New_York:20260510T140000
DTSTAMP:20260422T223924
CREATED:20260422T155731Z
LAST-MODIFIED:20260422T155731Z
UID:10000530-1778416200-1778421600@poporlando.com
SUMMARY:Mother's Day Luncheon
DESCRIPTION:We warmly invite all families of Prince of Peace/Príncipe de Paz to join us for a special Mother’s Day Luncheon on Sunday\, May 10 at 12:30 p.m. in the Family Life Center. This event\, prepared by our Hispanic congregation\, promises to be a delightful celebration with delicious food\, special music\, and wonderful fellowship. \nCome and honor the mothers and mother figures in our community with us. We look forward to sharing this special day together!
URL:https://poporlando.com/event/mothers-day-luncheon-2/
LOCATION:Family Life Center\, 1515 S Semoran Blvd.\, Orlando\, FL\, 32807\, United States
ATTACH;FMTTYPE=image/jpeg:https://poporlando.com/wp-content/uploads/2026/04/happy_mother_s_day_1-title-1-Wide-16x9-1-scaled.jpg
END:VEVENT
BEGIN:VEVENT
DTSTART;TZID=America/New_York:20260608T090000
DTEND;TZID=America/New_York:20260612T121500
DTSTAMP:20260422T223924
CREATED:20260422T160634Z
LAST-MODIFIED:20260422T160634Z
UID:10000532-1780909200-1781266500@poporlando.com
SUMMARY:RAINFOREST FALLS Vacation Bible Camp
DESCRIPTION:Join us for “Rainforest Falls” Vacation Bible Camp this summer- June 8-12! \nStep through the mist into Rainforest Falls\, overflowing with wild waterfalls\, towering trees and colorful creatures. Beneath a canopy of chattering birds and howling monkeys\, kids plunge into a lifelong adventure\, discovering the nature of God\, and exploring what it means to be rooted in relationship with their creator\, a safe place in life’s storms. \nOur Camp runs from 9:00 am- 12:15 pm daily. Kids will LOVE the music\, skits\, games\, crafts\, science projects\, snacks\, and creative Bible areas designed just for them! Our FREE week of Bible Camp is led by trained volunteers who have completed criminal background checks to ensure your child’s safety. Parents will also receive daily emails with details about what their child learned that day and information about upcoming events. \nKids will receive a FREE camp t-shirt- given out on the first day- and an invitation to continue to grow in faith even after our week of Camp through our PoP Kids Club. \nGot Bible Camp questions? Please reach out to Eric Gerken\, our Director of Youth and Family Ministries at 402-620-5877 (call or text) or at eric.gerken@poporlando.com. \nRegister today spots are limited! Click here to register!
URL:https://poporlando.com/event/rainforest-falls-vacation-bible-camp/
LOCATION:Family Life Center\, 1515 S Semoran Blvd.\, Orlando\, FL\, 32807\, United States
CATEGORIES:Community Outreach,Youth & Family Ministry
ATTACH;FMTTYPE=image/png:https://poporlando.com/wp-content/uploads/2026/04/Long-Logo.png
ORGANIZER;CN="Youth & Family Ministry":MAILTO:eric.gerken@poporlando.com
END:VEVENT
BEGIN:VEVENT
DTSTART;TZID=America/New_York:20260621T123000
DTEND;TZID=America/New_York:20260621T140000
DTSTAMP:20260422T223924
CREATED:20260422T160956Z
LAST-MODIFIED:20260422T160956Z
UID:10000533-1782045000-1782050400@poporlando.com
SUMMARY:Father's Day Luncheon
DESCRIPTION:We warmly invite all families of Prince of Peace/Príncipe de Paz to join us for a special Father’s Day Luncheon on Sunday\, June 21 at 12:30 p.m. in the Family Life Center. This event\, prepared by our Hispanic congregation\, promises to be a delightful celebration with delicious food\, special music\, and wonderful fellowship. \nCome and honor the fathers and father figures in our community with us. We look forward to sharing this special day together!
URL:https://poporlando.com/event/fathers-day-luncheon-3/
LOCATION:Family Life Center\, 1515 S Semoran Blvd.\, Orlando\, FL\, 32807\, United States
ATTACH;FMTTYPE=image/jpeg:https://poporlando.com/wp-content/uploads/2026/04/paper_pastures_happy_father_s_day-title-1-Wide-16x9-1-scaled.jpg
END:VEVENT
BEGIN:VEVENT
DTSTART;TZID=America/New_York:20260718T090000
DTEND;TZID=America/New_York:20260718T130000
DTSTAMP:20260422T223924
CREATED:20260304T200739Z
LAST-MODIFIED:20260304T200739Z
UID:10000526-1784365200-1784379600@poporlando.com
SUMMARY:Back-to-School and Health Fair
DESCRIPTION:Prince of Peace/Príncipe de Paz will again host its annual Back-to-School event that serves over 800 people from our community. We will provide FREE backpacks with school supplies for elementary\, middle\, and high school students. There will also be FREE physical exams\, health tests\, immunizations\, and more. \nCheck back on this page for more details in the coming weeks. \n\nVolunteers Needed for This Event!\nAll hands-on deck! Volunteer before\, during and/or after the event. To make the event a success\, we need YOUR help. Volunteers are needed and appreciated to prepare backpacks\, set-up and clean-up for the event\, and help during the event. Click here to sign up to volunteer online. \nFinancial Contributions\nIf you would like to contribute towards this event\, you can donate online\, mail a donation to the church\, or drop it off at the church office during regular business hours.
URL:https://poporlando.com/event/back-to-school-and-health-fair-3/
LOCATION:Family Life Center\, 1515 S Semoran Blvd.\, Orlando\, FL\, 32807\, United States
CATEGORIES:Community Outreach
ATTACH;FMTTYPE=image/jpeg:https://poporlando.com/wp-content/uploads/2021/06/back_to_school-title-2-Wide-16x9-1.jpg
END:VEVENT
END:VCALENDAR