BEGIN:VCALENDAR
VERSION:2.0
PRODID:-//Prince of Peace Orlando - ECPv6.15.20//NONSGML v1.0//EN
CALSCALE:GREGORIAN
METHOD:PUBLISH
X-WR-CALNAME:Prince of Peace Orlando
X-ORIGINAL-URL:https://poporlando.com
X-WR-CALDESC:Events for Prince of Peace Orlando
REFRESH-INTERVAL;VALUE=DURATION:PT1H
X-Robots-Tag:noindex
X-PUBLISHED-TTL:PT1H
BEGIN:VTIMEZONE
TZID:America/New_York
BEGIN:DAYLIGHT
TZOFFSETFROM:-0500
TZOFFSETTO:-0400
TZNAME:EDT
DTSTART:20210314T070000
END:DAYLIGHT
BEGIN:STANDARD
TZOFFSETFROM:-0400
TZOFFSETTO:-0500
TZNAME:EST
DTSTART:20211107T060000
END:STANDARD
BEGIN:DAYLIGHT
TZOFFSETFROM:-0500
TZOFFSETTO:-0400
TZNAME:EDT
DTSTART:20220313T070000
END:DAYLIGHT
BEGIN:STANDARD
TZOFFSETFROM:-0400
TZOFFSETTO:-0500
TZNAME:EST
DTSTART:20221106T060000
END:STANDARD
BEGIN:DAYLIGHT
TZOFFSETFROM:-0500
TZOFFSETTO:-0400
TZNAME:EDT
DTSTART:20230312T070000
END:DAYLIGHT
BEGIN:STANDARD
TZOFFSETFROM:-0400
TZOFFSETTO:-0500
TZNAME:EST
DTSTART:20231105T060000
END:STANDARD
END:VTIMEZONE
BEGIN:VEVENT
DTSTART;TZID=America/New_York:20220302T190000
DTEND;TZID=America/New_York:20220302T201500
DTSTAMP:20260421T191252
CREATED:20220108T033810Z
LAST-MODIFIED:20220108T034003Z
UID:10000108-1646247600-1646252100@poporlando.com
SUMMARY:Ash Wednesday Worship
DESCRIPTION:Ash Wednesday marks the beginning of the penitential season of Lent. Our attention focuses on our need for repentance\, and for the mercy and forgiveness proclaimed in the gospel of Jesus Christ. The sign of ashes speaks of the frail and uncertainty of human life and marks the penitence of the Christian community. \nThe worship service will be held in the Sanctuary and will include Holy Communion and the imposition of ashes.
URL:https://poporlando.com/event/ash-wednesday-worship/
LOCATION:Sanctuary\, 1515 S. Semoran Blvd.\, Orlando\, FL\, 32807\, United States
CATEGORIES:Worship
ATTACH;FMTTYPE=image/jpeg:https://poporlando.com/wp-content/uploads/2022/01/ash_wednesday-title-3-Wide-16x9-1.jpg
END:VEVENT
BEGIN:VEVENT
DTSTART;TZID=America/New_York:20220312T180000
DTEND;TZID=America/New_York:20220312T193000
DTSTAMP:20260421T191252
CREATED:20220122T152016Z
LAST-MODIFIED:20220122T152242Z
UID:10000111-1647108000-1647113400@poporlando.com
SUMMARY:Concordia Wind Symphony Concert
DESCRIPTION:About Concordia University Chicago Wind Symphony\nThe Wind Symphony is the premiere instrumental ensemble at Concordia University Chicago. The Wind Symphony maintains an active performance schedule\, having performed in schools\, churches\, and concert halls in 43 states\, Canada\, Eastern Europe\, and China. The group has a commitment to the finest traditional and contemporary sacred and secular repertoire. The Wind Symphony has recorded thirteen compact discs of sacred music. \nConductor – Dr. Richard Fischer\nDr. Richard Fischer\, Distinguished Professor of Music\, has served as director of bands at Concordia University Chicago since 1974.
URL:https://poporlando.com/event/concordia-wind-symphony-concert/
LOCATION:Sanctuary\, 1515 S. Semoran Blvd.\, Orlando\, FL\, 32807\, United States
CATEGORIES:Concert Series
ATTACH;FMTTYPE=image/jpeg:https://poporlando.com/wp-content/uploads/2022/01/CUC_WindSymphony-scaled-e1642864785489.jpg
ORGANIZER;CN="Prince of Peace Concert Series":MAILTO:concertseries@poporlando.com
END:VEVENT
END:VCALENDAR