BEGIN:VCALENDAR
VERSION:2.0
PRODID:-//Prince of Peace Orlando - ECPv6.15.20//NONSGML v1.0//EN
CALSCALE:GREGORIAN
METHOD:PUBLISH
X-WR-CALNAME:Prince of Peace Orlando
X-ORIGINAL-URL:https://poporlando.com
X-WR-CALDESC:Events for Prince of Peace Orlando
REFRESH-INTERVAL;VALUE=DURATION:PT1H
X-Robots-Tag:noindex
X-PUBLISHED-TTL:PT1H
BEGIN:VTIMEZONE
TZID:America/New_York
BEGIN:DAYLIGHT
TZOFFSETFROM:-0500
TZOFFSETTO:-0400
TZNAME:EDT
DTSTART:20230312T070000
END:DAYLIGHT
BEGIN:STANDARD
TZOFFSETFROM:-0400
TZOFFSETTO:-0500
TZNAME:EST
DTSTART:20231105T060000
END:STANDARD
BEGIN:DAYLIGHT
TZOFFSETFROM:-0500
TZOFFSETTO:-0400
TZNAME:EDT
DTSTART:20240310T070000
END:DAYLIGHT
BEGIN:STANDARD
TZOFFSETFROM:-0400
TZOFFSETTO:-0500
TZNAME:EST
DTSTART:20241103T060000
END:STANDARD
BEGIN:DAYLIGHT
TZOFFSETFROM:-0500
TZOFFSETTO:-0400
TZNAME:EDT
DTSTART:20250309T070000
END:DAYLIGHT
BEGIN:STANDARD
TZOFFSETFROM:-0400
TZOFFSETTO:-0500
TZNAME:EST
DTSTART:20251102T060000
END:STANDARD
END:VTIMEZONE
BEGIN:VEVENT
DTSTART;TZID=America/New_York:20241231T180000
DTEND;TZID=America/New_York:20241231T190000
DTSTAMP:20260419T134411
CREATED:20241218T044648Z
LAST-MODIFIED:20241218T062145Z
UID:10000410-1735668000-1735671600@poporlando.com
SUMMARY:New Year's Eve English Worship
DESCRIPTION:We invite you to join us for special evening worship services on New Year’s Eve as we give thanks and praise for the year gone by and pray for God’s continued guidance\, grace\, and provision in the year ahead. Both services will offer times for personal prayer for healing\, comfort\, and strength for God’s people. \nService Times\n6:00 p.m. – Traditional Worship | English | Sanctuary \n7:30 p.m. – Adoración en español | Spanish | Sanctuary
URL:https://poporlando.com/event/2024-nye-english/
LOCATION:Prince of Peace Orlando Campus\, 1515 S Semoran Blvd.\, Orlando\, 32807\, United States
CATEGORIES:Worship
ATTACH;FMTTYPE=image/jpeg:https://poporlando.com/wp-content/uploads/2022/12/winter_swirl_new_year-title-1-Wide-16x9-1.jpg
END:VEVENT
BEGIN:VEVENT
DTSTART;TZID=America/New_York:20241231T193000
DTEND;TZID=America/New_York:20241231T210000
DTSTAMP:20260419T134411
CREATED:20241218T062516Z
LAST-MODIFIED:20241218T062628Z
UID:10000411-1735673400-1735678800@poporlando.com
SUMMARY:Adoración de Nochevieja
DESCRIPTION:Te invitamos a unirte a nosotros en los servicios especiales de adoración vespertina en la víspera de Año Nuevo\, en los que daremos gracias y alabaremos por el año que terminó y oraremos por la guía\, la gracia y la provisión continuas de Dios en el año que comienza. Ambos servicios ofrecerán momentos de oración personal por sanación\, consuelo y fortaleza para el pueblo de Dios. \nHorarios de servicios de adoración\n6:00 p.m. – Culto Tradicional | Inglés | Templo \n7:30 p.m. – Adoración en español | Español | Templo
URL:https://poporlando.com/event/2024-nye-spanish/
LOCATION:Prince of Peace Orlando Campus\, 1515 S Semoran Blvd.\, Orlando\, 32807\, United States
CATEGORIES:Worship
ATTACH;FMTTYPE=image/jpeg:https://poporlando.com/wp-content/uploads/2022/12/winter_swirl_new_year-title-1-Wide-16x9-1.jpg
END:VEVENT
END:VCALENDAR