BEGIN:VCALENDAR
VERSION:2.0
PRODID:-//Prince of Peace Orlando - ECPv6.15.20//NONSGML v1.0//EN
CALSCALE:GREGORIAN
METHOD:PUBLISH
X-WR-CALNAME:Prince of Peace Orlando
X-ORIGINAL-URL:https://poporlando.com
X-WR-CALDESC:Events for Prince of Peace Orlando
REFRESH-INTERVAL;VALUE=DURATION:PT1H
X-Robots-Tag:noindex
X-PUBLISHED-TTL:PT1H
BEGIN:VTIMEZONE
TZID:America/New_York
BEGIN:DAYLIGHT
TZOFFSETFROM:-0500
TZOFFSETTO:-0400
TZNAME:EDT
DTSTART:20250309T070000
END:DAYLIGHT
BEGIN:STANDARD
TZOFFSETFROM:-0400
TZOFFSETTO:-0500
TZNAME:EST
DTSTART:20251102T060000
END:STANDARD
BEGIN:DAYLIGHT
TZOFFSETFROM:-0500
TZOFFSETTO:-0400
TZNAME:EDT
DTSTART:20260308T070000
END:DAYLIGHT
BEGIN:STANDARD
TZOFFSETFROM:-0400
TZOFFSETTO:-0500
TZNAME:EST
DTSTART:20261101T060000
END:STANDARD
BEGIN:DAYLIGHT
TZOFFSETFROM:-0500
TZOFFSETTO:-0400
TZNAME:EDT
DTSTART:20270314T070000
END:DAYLIGHT
BEGIN:STANDARD
TZOFFSETFROM:-0400
TZOFFSETTO:-0500
TZNAME:EST
DTSTART:20271107T060000
END:STANDARD
END:VTIMEZONE
BEGIN:VEVENT
DTSTART;TZID=America/New_York:20260503T123000
DTEND;TZID=America/New_York:20260503T140000
DTSTAMP:20260423T030746
CREATED:20260422T155125Z
LAST-MODIFIED:20260422T155125Z
UID:10000528-1777811400-1777816800@poporlando.com
SUMMARY:Pastors' Reception for New Members
DESCRIPTION:Are you new (or relatively new) to our community at Prince of Peace/Príncipe de Paz? We’re excited to extend a warm invitation to our Pastors’ Reception on Sunday\, May 3\, 2026. This special gathering is an ideal opportunity for individuals and families who are considering making Prince of Peace their spiritual home. \nAt the reception\, you’ll have the chance to discover the heart of our church through an introduction to our diverse ministries. It’s a perfect time to ask questions\, hear from our pastors\, and learn about the various ways you can get involved. Whether you’re looking to connect with others\, explore volunteer opportunities\, or take the next steps toward membership\, the Pastors’ Reception is your gateway to becoming a part of our church family. \nWe’re eager to get to know you and include you in our community. To receive a personal invitation to this informative and welcoming event\, please reach out to us at staff@poporlando.com or call 407.277.3945 for more information. Your journey with Prince of Peace starts here\, and we can’t wait to welcome you!
URL:https://poporlando.com/event/pastors-reception-for-new-members-3/
LOCATION:Family Life Center\, 1515 S Semoran Blvd.\, Orlando\, FL\, 32807\, United States
ATTACH;FMTTYPE=image/png:https://poporlando.com/wp-content/uploads/2024/04/Pastors.png
END:VEVENT
BEGIN:VEVENT
DTSTART;TZID=America/New_York:20260509T100000
DTEND;TZID=America/New_York:20260509T120000
DTSTAMP:20260423T030746
CREATED:20260422T155446Z
LAST-MODIFIED:20260422T155446Z
UID:10000529-1778320800-1778328000@poporlando.com
SUMMARY:Family Day at Capehart Park
DESCRIPTION:Join us on Sunday\, May 9\, from 10:00a-12:00 p.m. for a morning of fun at Capehart Park! We’ve reserved a pavilion for families with preschool and elementary-aged kids to gather for a fantastic day out. The kids will love the park’s awesome playground and splash pad (weather permitting)\, along with exciting group games and plenty of space to run and play. \nPlease note that this is a family event\, so each child will need an adult to stay with them for supervision. Come enjoy a great day at the park with us \n\nAbout PoP Kids\n PoP Kids\, where fun and faith come together! Our club is all about helping kids and families connect through exciting\, family-friendly activities. Each child receives a FREE club T-shirt and is encouraged to bring along their friends. \nJoin us as we share Jesus’ love through fun gatherings\, creative projects\, and memorable adventures. Come be a part of the PoP Kids family and make wonderful memories with us! \nClick here to follow PoP Kids on Facebook!
URL:https://poporlando.com/event/family-day-at-capehart-park-4/
LOCATION:Capehart Park\, 715 Capehart Dr\, Orlando\, 32822\, United States
CATEGORIES:Youth & Family Ministry
ATTACH;FMTTYPE=image/jpeg:https://poporlando.com/wp-content/uploads/2024/08/girl_on_playground.jpg
END:VEVENT
END:VCALENDAR